BEGIN:VCALENDAR
VERSION:2.0
PRODID:-//GR Lit Fest - ECPv6.15.20//NONSGML v1.0//EN
CALSCALE:GREGORIAN
METHOD:PUBLISH
X-WR-CALNAME:GR Lit Fest
X-ORIGINAL-URL:https://grlitfest.com
X-WR-CALDESC:Events for GR Lit Fest
REFRESH-INTERVAL;VALUE=DURATION:PT1H
X-Robots-Tag:noindex
X-PUBLISHED-TTL:PT1H
BEGIN:VTIMEZONE
TZID:America/Detroit
BEGIN:DAYLIGHT
TZOFFSETFROM:-0500
TZOFFSETTO:-0400
TZNAME:EDT
DTSTART:20240310T070000
END:DAYLIGHT
BEGIN:STANDARD
TZOFFSETFROM:-0400
TZOFFSETTO:-0500
TZNAME:EST
DTSTART:20241103T060000
END:STANDARD
BEGIN:DAYLIGHT
TZOFFSETFROM:-0500
TZOFFSETTO:-0400
TZNAME:EDT
DTSTART:20250309T070000
END:DAYLIGHT
BEGIN:STANDARD
TZOFFSETFROM:-0400
TZOFFSETTO:-0500
TZNAME:EST
DTSTART:20251102T060000
END:STANDARD
BEGIN:DAYLIGHT
TZOFFSETFROM:-0500
TZOFFSETTO:-0400
TZNAME:EDT
DTSTART:20260308T070000
END:DAYLIGHT
BEGIN:STANDARD
TZOFFSETFROM:-0400
TZOFFSETTO:-0500
TZNAME:EST
DTSTART:20261101T060000
END:STANDARD
END:VTIMEZONE
BEGIN:VEVENT
DTSTART;TZID=America/Detroit:20250616T190000
DTEND;TZID=America/Detroit:20250616T210000
DTSTAMP:20260425T080642
CREATED:20250519T210155Z
LAST-MODIFIED:20250607T020649Z
UID:499-1750100400-1750107600@grlitfest.com
SUMMARY:Books & Buzzers: A Literary Game Show Experience
DESCRIPTION:The Grand Rapids Game Show Experience with GR Lit Fest\nA Night of Literary Trivia Like Never Before! \nThis isn’t your average pub trivia night- It’s Jeopardy\, Wheel of Fortune\, and Family Feud LIVE with real buzzers\, lights\, and game show action! \nFrom Romance to classic lit\, from modern dystopian to teen angst\, it’s a battle of your book knowledge! \nBring a team or come solo and we’ll match you up. Whether you’re a bookworm\, word nerd\, or just love a good competition—this is your chapter to shine. \nReserve your free tickets now! Click Here \nPlease Note: This is a 21+ event.
URL:https://grlitfest.com/event/lit-trivia/
LOCATION:Muse GR\, 727 Leonard St NW\, Grand Rapids\, MI\, 49504
CATEGORIES:Community Event
ATTACH;FMTTYPE=image/jpeg:https://grlitfest.com/wp-content/uploads/2025/05/GRLitFest-triviaNight-FB.jpg
ORGANIZER;CN="GR Lit Fest":MAILTO:grlitfest@gmail.com
END:VEVENT
BEGIN:VEVENT
DTSTART;TZID=America/Detroit:20250616T180000
DTEND;TZID=America/Detroit:20250616T200000
DTSTAMP:20260425T080642
CREATED:20250416T183445Z
LAST-MODIFIED:20250507T194331Z
UID:375-1750096800-1750104000@grlitfest.com
SUMMARY:Author Talk: This Book is Banned
DESCRIPTION:Free event\, but RSVP needed! RSVP HERE \n“Books are powerful. They can open your mind\, give you language and understanding and\, most importantly\, give you the tools to change the world. This makes them a danger to those who are invested in keeping folks in the dark.” ~ Nicole Lintemuth\, author of “This Book is Dangerous.” \nWe are excited to partner with Books & Mortar to host an author talk with author Nicole Lintemuth. Join us to learn about book bans and how we\, as readers\, can take action against them!
URL:https://grlitfest.com/event/author-talk-this-book-is-banned/
LOCATION:Books & Mortar\, 966 Cherry St SE\, Grand Rapids\, MI\, 49506\, United States
CATEGORIES:Author Reading
ATTACH;FMTTYPE=image/jpeg:https://grlitfest.com/wp-content/uploads/2025/04/GRLitFest-bookBanning-FB.jpg
ORGANIZER;CN="GR Lit Fest":MAILTO:grlitfest@gmail.com
END:VEVENT
BEGIN:VEVENT
DTSTART;TZID=America/Detroit:20250616T150000
DTEND;TZID=America/Detroit:20250616T180000
DTSTAMP:20260425T080642
CREATED:20250316T231344Z
LAST-MODIFIED:20250616T131153Z
UID:210-1750086000-1750096800@grlitfest.com
SUMMARY:GR Lit Fest Kick Off
DESCRIPTION:We’re so excited to kickoff this inaugural Lit Fest with you! \nCome check out some amazing K-12 authors\, fantastic painters\, musicians\, and Dolly Parton’s Library. This is a family-friendly event\, and we can’t wait to celebrate this momentous beginning with you. \nThis event will occur rain or shine. \nAuthors include:\n\nKari Carr\nJean Davis\nAlex Ebenstein\nMelanie Martin\nM.D. LaBelle\nGeorgia Ann Moss\nDonovan M. Neal\nCindy Williams Schrauben\n\nThis event is free to attend! RSVP is not required\, but appreciated: Click Here
URL:https://grlitfest.com/event/gr-lit-fest-kick-off/
LOCATION:Sixth Street Park\, 647 Monroe NW\, Grand Rapids\, MI\, 49503\, United States
CATEGORIES:Community Event
ATTACH;FMTTYPE=image/jpeg:https://grlitfest.com/wp-content/uploads/2025/03/GRLitFest-kickoff-FB.jpg
ORGANIZER;CN="GR Lit Fest":MAILTO:grlitfest@gmail.com
END:VEVENT
END:VCALENDAR