BEGIN:VCALENDAR
VERSION:2.0
PRODID:-//GR Lit Fest - ECPv6.15.20//NONSGML v1.0//EN
CALSCALE:GREGORIAN
METHOD:PUBLISH
X-ORIGINAL-URL:https://grlitfest.com
X-WR-CALDESC:Events for GR Lit Fest
REFRESH-INTERVAL;VALUE=DURATION:PT1H
X-Robots-Tag:noindex
X-PUBLISHED-TTL:PT1H
BEGIN:VTIMEZONE
TZID:America/Detroit
BEGIN:DAYLIGHT
TZOFFSETFROM:-0500
TZOFFSETTO:-0400
TZNAME:EDT
DTSTART:20250309T070000
END:DAYLIGHT
BEGIN:STANDARD
TZOFFSETFROM:-0400
TZOFFSETTO:-0500
TZNAME:EST
DTSTART:20251102T060000
END:STANDARD
BEGIN:DAYLIGHT
TZOFFSETFROM:-0500
TZOFFSETTO:-0400
TZNAME:EDT
DTSTART:20260308T070000
END:DAYLIGHT
BEGIN:STANDARD
TZOFFSETFROM:-0400
TZOFFSETTO:-0500
TZNAME:EST
DTSTART:20261101T060000
END:STANDARD
BEGIN:DAYLIGHT
TZOFFSETFROM:-0500
TZOFFSETTO:-0400
TZNAME:EDT
DTSTART:20270314T070000
END:DAYLIGHT
BEGIN:STANDARD
TZOFFSETFROM:-0400
TZOFFSETTO:-0500
TZNAME:EST
DTSTART:20271107T060000
END:STANDARD
END:VTIMEZONE
BEGIN:VEVENT
DTSTART;TZID=America/Detroit:20260624T103000
DTEND;TZID=America/Detroit:20260624T113000
DTSTAMP:20260424T152232
CREATED:20260329T203255Z
LAST-MODIFIED:20260424T015341Z
UID:663-1782297000-1782300600@grlitfest.com
SUMMARY:Children’s Story Hour with Author Ms. Z
DESCRIPTION:Ms. Z will reading her children’s book When the School Goes Dark for a children’s story hour! \nAbout the Book\nWhat happens in your classroom when the lights go out and the last custodian locks up for the night? \nIn When the School Goes Dark\, Ms. Z invites readers into a whimsical\, mysterious world where pencils and erasers hold late-night gatherings\, Desk Trolls secretly scribble in books\, and mischievous Bathroom Bandits leave their “Cave Paintings” on the walls. \nThrough vivid imagination and magical storytelling\, Ms. Z reveals the enchanting lives of classroom objects and their nightly escapades. Perfect for young readers and anyone who’s ever wondered about the unseen world of their school\, this charming tale will make you see classrooms in a whole new light. \nStep into the magic\, but be warned- things are never quite as ordinary as they seem! \nFamily-friendly Activities with the Author\nA scavenger hunt of the library and designing your own creature activities are included. Join us for this special\, family-friendly event. \nGet a Signed Book!\nMs. Z will have books available for sale and signing after the event.
URL:https://grlitfest.com/event/kids-story-hour-062426/
LOCATION:GRPL – Seymour Branch\, 2350 Eastern Ave SE\, Grand Rapids\, MI\, 49507
CATEGORIES:Author Reading
ATTACH;FMTTYPE=image/jpeg:https://grlitfest.com/wp-content/uploads/2026/03/GRLitFest26-StoryHour0624-FB.jpg
ORGANIZER;CN="GR Lit Fest":MAILTO:grlitfest@gmail.com
END:VEVENT
BEGIN:VEVENT
DTSTART;TZID=America/Detroit:20260624T180000
DTEND;TZID=America/Detroit:20260624T200000
DTSTAMP:20260424T152232
CREATED:20260308T154621Z
LAST-MODIFIED:20260420T203813Z
UID:629-1782324000-1782331200@grlitfest.com
SUMMARY:Historical Fiction Night
DESCRIPTION:Who doesn’t like their fictional tales with a hefty side of history? \nWe’re excited to host a compelling Historical Fiction Night at The Lit\, a venue rooted in Grand Rapids’ rich literary and cultural heritage. Built in 1887 as a gathering place for a prominent women’s literary society\, this historic landmark continues its legacy of fostering education\, storytelling\, and cultural connection. \nJoin us for an engaging discussion with talented authors as they bring history to life through vivid storytelling. From sweeping historical narratives to intimate\, character-driven tales\, our panelists will explore the real events\, figures\, and research that shape their work\, as well as the delicate balance between fact and fiction. \nAttending Authors\n\nSammy Beuker\nCaitlin Horrocks\nAngela Shupe\nJanyre Tromp\n\nAuthors will have their books available for sale and signing after the event.
URL:https://grlitfest.com/event/historical-fiction-night-2026/
LOCATION:The Lit\, 61 Sheldon Blvd SE\, Grand Rapids\, MI\, 49503
CATEGORIES:Community Event,Panel Discussion
ATTACH;FMTTYPE=image/jpeg:https://grlitfest.com/wp-content/uploads/2026/03/GRLitFest26-HistoricalFiction-FB.jpg
ORGANIZER;CN="GR Lit Fest":MAILTO:grlitfest@gmail.com
END:VEVENT
BEGIN:VEVENT
DTSTART;TZID=America/Detroit:20260624T180000
DTEND;TZID=America/Detroit:20260624T200000
DTSTAMP:20260424T152232
CREATED:20260308T155622Z
LAST-MODIFIED:20260329T210947Z
UID:632-1782324000-1782331200@grlitfest.com
SUMMARY:YA Author Panel
DESCRIPTION:In partnership with Books & Mortar\, GR Lit Fest invites you to a conversation with authors of young adult fiction! This popular genre offers emotionally intense and often hope-filled stories that appeal to all ages. \nAttending Authors\n\nR.E. Bellesmith\nJessica K Foster\nMelanie Hooyenga\nBenjamin Kamphuis\n\nAuthors will have their books available for sale and signing after the event.
URL:https://grlitfest.com/event/ya-night-2026/
LOCATION:Books & Mortar\, 966 Cherry St SE\, Grand Rapids\, MI\, 49506\, United States
CATEGORIES:Community Event,Panel Discussion
ATTACH;FMTTYPE=image/jpeg:https://grlitfest.com/wp-content/uploads/2026/03/GRLitFest-ya-FB.jpg
ORGANIZER;CN="GR Lit Fest":MAILTO:grlitfest@gmail.com
END:VEVENT
BEGIN:VEVENT
DTSTART;TZID=America/Detroit:20260625T103000
DTEND;TZID=America/Detroit:20260625T113000
DTSTAMP:20260424T152232
CREATED:20260329T204603Z
LAST-MODIFIED:20260424T015416Z
UID:661-1782383400-1782387000@grlitfest.com
SUMMARY:Children’s Story Hour with Author Candi Purdiman
DESCRIPTION:Author Candi Purdiman will reading her book I Survived Being Afraid of the Dark for a children’s story hour! \nAbout the Book\nMeet Riley\, a brave little boy with a big imagination. When the lights go out\, his bedroom fills with spooky shadows and mysterious shapes! Riley is convinced there are things lurking in the dark\, even though no one else can see them. \nBut one night\, with his mom’s help\, Riley learns that the shadows and shapes are just his imagination playing tricks on him. Together\, they explore his fears and discover that the dark isn’t so scary after all. \nGet a Signed Book!\nCandi will have books available for sale and signing after the event. \nVenue TBD
URL:https://grlitfest.com/event/kids-story-hour-062326/
LOCATION:MI
CATEGORIES:Author Reading
ATTACH;FMTTYPE=image/jpeg:https://grlitfest.com/wp-content/uploads/2026/03/GRLitFest26-StoryHour0623-FB.jpg
ORGANIZER;CN="GR Lit Fest":MAILTO:grlitfest@gmail.com
END:VEVENT
BEGIN:VEVENT
DTSTART;TZID=America/Detroit:20260625T180000
DTEND;TZID=America/Detroit:20260625T200000
DTSTAMP:20260424T152232
CREATED:20260308T160514Z
LAST-MODIFIED:20260420T204316Z
UID:635-1782410400-1782417600@grlitfest.com
SUMMARY:2SLGBTQIA+ Author Panel
DESCRIPTION:In partnership with Scorpion Hearts Club\, GR Lit Fest invites you to a dynamic panel of queer authors. We’ll be discussing a sampling of queer experiences in sharing your story and existing within the publishing industry. \nAttending Authors:\n\nV.L. Barycz\nMichelle Kulwicki\nVincent Moyet\nBethany Tap\n\nAuthors will have their books available for sale and signing after the event.
URL:https://grlitfest.com/event/2-slgbtqia-author-panel-2026/
LOCATION:Scorpion Hearts Club\, 1035 Wealthy St SE\, Grand Rapids\, MI\, 49506\, United States
CATEGORIES:Community Event,Panel Discussion
ATTACH;FMTTYPE=image/jpeg:https://grlitfest.com/wp-content/uploads/2025/03/GRLitFest-lgbtqia-FB.jpg
ORGANIZER;CN="GR Lit Fest":MAILTO:grlitfest@gmail.com
END:VEVENT
BEGIN:VEVENT
DTSTART;TZID=America/Detroit:20260625T180000
DTEND;TZID=America/Detroit:20260625T200000
DTSTAMP:20260424T152232
CREATED:20260308T161902Z
LAST-MODIFIED:20260420T204011Z
UID:637-1782410400-1782417600@grlitfest.com
SUMMARY:Mystery Night
DESCRIPTION:In partnership with Cellar Bird Books\, GR Lit Fest invites you to step into a world of secrets\, suspense\, and spine-tingling twists at our Mystery Night. How is a mystery story woven? What’s needed to create an entertaining tale of Who-dunnit? And are mystery authors ever concerned about their internet browser history? \nJoin a lineup of talented mystery writers as they delve into the craft behind their most gripping stories\, from plotting the perfect whodunit to building unforgettable detectives and villains.\n\nAuthors include:\n\nDianne Freeman\nErin R. Hodges\nMarissa Malson\n\nAuthors will have their books available for sale and signing after the event.
URL:https://grlitfest.com/event/mystery-night-2026/
LOCATION:Cellar Bird Books\, 415 Bridge St NW Suite B\, Grand Rapids\, MI\, 49504
CATEGORIES:Community Event,Panel Discussion
ATTACH;FMTTYPE=image/jpeg:https://grlitfest.com/wp-content/uploads/2025/03/GRLitFest-mystery-FB.jpg
ORGANIZER;CN="GR Lit Fest":MAILTO:grlitfest@gmail.com
END:VEVENT
BEGIN:VEVENT
DTSTART;TZID=America/Detroit:20260626T103000
DTEND;TZID=America/Detroit:20260626T113000
DTSTAMP:20260424T152232
CREATED:20260329T204913Z
LAST-MODIFIED:20260424T015303Z
UID:667-1782469800-1782473400@grlitfest.com
SUMMARY:Children’s Story Hour with Author Cassie Veselovsky
DESCRIPTION:Cassie Veselovsky will reading her children’s book This is the Lighthouse for a kids’ story hour! Join us for this special\, family-friendly event. \nAbout the Book\nSing\, learn\, and explore lighthouses with This is the Lighthouse! \nWritten to the familiar tune of Here we go round the Mulberry Bush\, this interactive picture book invites young readers to discover how lighthouses guide boats safely through the night. \nChildren will meet: \n\nsoaring gulls\ncrashing waves\nhardworking keepers\nshining lights\n\nall while singing along. \nFeaturing real lighthouse photography and fascinating facts\, This Is the Lighthouse blends music\, nonfiction\, and early literacy fun into a joyful read-aloud experience. \nFamily-friendly Activities with the Author\nThere will be an interactive activity to accompany the reading of the book. \nGet a Signed Book!\nCassie will have books available for sale and signing after the event.
URL:https://grlitfest.com/event/kids-story-hour-062626/
LOCATION:GRPL – Ottawa Hills Branch\, 1150 Giddings Ave SE\, Grand Rapids\, MI\, 49506
CATEGORIES:Author Reading
ATTACH;FMTTYPE=image/jpeg:https://grlitfest.com/wp-content/uploads/2026/03/GRLitFest26-StoryHour0626-FB.jpg
ORGANIZER;CN="GR Lit Fest":MAILTO:grlitfest@gmail.com
END:VEVENT
BEGIN:VEVENT
DTSTART;TZID=America/Detroit:20260626T180000
DTEND;TZID=America/Detroit:20260626T203000
DTSTAMP:20260424T152232
CREATED:20260308T163925Z
LAST-MODIFIED:20260422T225700Z
UID:644-1782496800-1782505800@grlitfest.com
SUMMARY:Romance Night
DESCRIPTION:GR Lit Fest\, in partnership with Chicago Beef Joint\, invites you to a swoon-worthy and sizzling night with our panel of romance authors. After this event\, join us for an encore event at 8:30 – The Bookish Burlesque Show! \nThe Evening’s Schedule\n\n6:00-6:30 Spicy Bingo\n6:30-7:00 Browse the Books\n7:00-8:00 Romance Author Panel\n8:00-8:15 Grab that Book You Didn’t Get Earlier and are Still Thinking About\n\nAttending Authors:\n\nStef C.R. (sports romance)\nRachel Esterline (motorcycle club)\nMolly Harper (paranormal romance)\nTana Jenkins (sweet romance)\n\nAuthors will have their books available for sale and signing after the event. \nPLEASE NOTE: This is a 21+ event and requires a 1 drink minimum. Non-alcoholic drinks are available.
URL:https://grlitfest.com/event/romance-night-2026/
LOCATION:Chicago Beef Joint\, 822 Ottawa Ave NW\, Grand Rapids\, MI\, 49503
CATEGORIES:Community Event,Panel Discussion
ATTACH;FMTTYPE=image/jpeg:https://grlitfest.com/wp-content/uploads/2025/03/GRLitFest-romance-FB.jpg
ORGANIZER;CN="GR Lit Fest":MAILTO:grlitfest@gmail.com
END:VEVENT
BEGIN:VEVENT
DTSTART;TZID=America/Detroit:20260627T120000
DTEND;TZID=America/Detroit:20260627T160000
DTSTAMP:20260424T152232
CREATED:20260329T192955Z
LAST-MODIFIED:20260424T005338Z
UID:656-1782561600-1782576000@grlitfest.com
SUMMARY:K-12 Book Fair
DESCRIPTION:In partnership with Has Heart Café\, GR Lit Fest invites readers to our K-12 book fair! Join us for this family-friendly event on the patio to browse a wonderful collection of books perfect for summer reads. \nSpecial Guest\nWe are delighted to welcome the beloved Wimee the Robot to the book fair! Wimee the Robot can be seen on PBS stations across the country\, inspiring millions of kids to think creatively\, express themselves\, and explore the world through words\, art\, and technology. \nAttending Authors:\n\nLauren Anderson\nR.E. Bellesmith\nBecca Bielicki\nM. W. Dendler\nJessica K Foster\nBenjamin Kamphuis\nMichelle Kulwicki\nAlex Ebenstein\nKelli Storm\nCassie Veselovsky\nSuse Wilcox\nMs Z\n\nParking\nThere is metered street parking (free on the weekend) on a first come\, first serve\, basis surrounding the west\, south\, and eastern sides of Veterans Memorial Park.
URL:https://grlitfest.com/event/k-12-book-fair-2026/
LOCATION:Has Heart\, 22 Sheldon Ave NE\, Grand Rapids\, MI\, 49503\, United States
CATEGORIES:Community Event
ATTACH;FMTTYPE=image/jpeg:https://grlitfest.com/wp-content/uploads/2025/03/GRLitFest-kickoff-FB.jpg
ORGANIZER;CN="GR Lit Fest":MAILTO:grlitfest@gmail.com
END:VEVENT
BEGIN:VEVENT
DTSTART;TZID=America/Detroit:20260627T180000
DTEND;TZID=America/Detroit:20260627T200000
DTSTAMP:20260424T152232
CREATED:20260308T165357Z
LAST-MODIFIED:20260420T204739Z
UID:646-1782583200-1782590400@grlitfest.com
SUMMARY:Graphic Novel\, Comic\, Zine Night
DESCRIPTION:In partnership with Black Dog Books & Records\, GR Lit Fest invites you to dive into the vibrant world of visual storytelling at our Graphic Novel\, Comic Book\, and Zine night! Our guest authors not only wield words to tell stories\, but create emotion-evoking artwork as well. \nJoin these talented creators as they explore the unique process behind crafting zines\, graphic novels\, and comics. Authors will discuss everything from visual worldbuilding and character design to self-publishing\, distribution\, and finding your audience. \nAttending Authors:\n\nTuyet-Nhi Pham\nIvy Rose\nRue Sparks\n\nAuthors will have their books available for sale and signing after the event.
URL:https://grlitfest.com/event/graphic-novel-comic-zine-night-2026/
LOCATION:Black Dog Books & Records\, 959 Fulton St E\, Grand Rapids\, MI\, 49503
CATEGORIES:Community Event,Panel Discussion
ATTACH;FMTTYPE=image/jpeg:https://grlitfest.com/wp-content/uploads/2026/03/GRLitFest26-ComicZine-FB.jpg
ORGANIZER;CN="GR Lit Fest":MAILTO:grlitfest@gmail.com
END:VEVENT
BEGIN:VEVENT
DTSTART;TZID=America/Detroit:20260628T140000
DTEND;TZID=America/Detroit:20260628T180000
DTSTAMP:20260424T152232
CREATED:20260329T210307Z
LAST-MODIFIED:20260424T005801Z
UID:648-1782655200-1782669600@grlitfest.com
SUMMARY:Adult Book Fair
DESCRIPTION:GR Lit Fest\, in partnership with the 6th Street Hall\, invites you to Grand Rapid’s West Side for our Adult Book Fair! Browse books of 40 authors in multiple genres to find your next favorite read. Adult beverages are available to sip while you shop. \nWe feel fortunate to host an amazing group of authors writing in multiple genres. While the following list is a rough guide\, we encourage readers to explore the variety of stories our guest authors have written. \nAttending Authors:\nFantasy\n\nV.L. Barycz\nPat Bitt\nStefanie Gilmour\nLeAnn Kelley\nKayliani Shi\n\nGraphic Novel / Comic / Zine\n\nH&S Alvaurence\nTuyet-Nhi Pham\nIvy Rose\nRue Sparks\n\nHistorical Fiction\n\nSammy Beuker\nCaitlin Horrocks\nAngela Shupe\nJanyre Tromp\n\nHorror\n\nAlex Ebenstein\nAndy Lockwood\nSamantha Moran\nThe Twilight Traveler\n\nLiterary Fiction\n\nKristine E. Brickey\nCecilia A. Garcia\nBethany Tap\n\nMystery\n\nErin R. Hodges\nMark Love\nMarissa Malson\n\nNon-Fiction\n\nNancy Collander\nM.C. Johnson\nDr. Stuart D. Jones\nD. Leon Stokes\n\nPoetry\n\nAndrew Collard\nVincent Moyet\nLynne Schmidt\n\nRomance\n\nAlby Blake\nRachel Esterline\nTana Jenkins\nMeika Usher\nMaude Winters\n\nSci-Fi\n\nMartin L. Shoemaker\n\nThriller\n\nMichael Balter\n\nYoung Adult\n\nJana Chantel\nMelanie Hooyenga\nKelli Storm
URL:https://grlitfest.com/event/adult-book-fair-2026/
LOCATION:6th Street Hall\, 649 6th Street Northwest\, Grand Rapids\, MI\, 49504\, United States
CATEGORIES:Community Event
ATTACH;FMTTYPE=image/jpeg:https://grlitfest.com/wp-content/uploads/2025/03/GRLitFest-bookFaire-FB.jpg
ORGANIZER;CN="GR Lit Fest":MAILTO:grlitfest@gmail.com
END:VEVENT
BEGIN:VEVENT
DTSTART;TZID=America/Detroit:20260629T160000
DTEND;TZID=America/Detroit:20260629T180000
DTSTAMP:20260424T152232
CREATED:20260415T011633Z
LAST-MODIFIED:20260415T011753Z
UID:766-1782748800-1782756000@grlitfest.com
SUMMARY:Dream Big - A Free Literacy Play Experience
DESCRIPTION:THE PLAYGROUNDgr is proud to bring this THE PLAYGROUNDgr and GR Lit Fest event to our community on June 29\, 2026 at 4pm – 6pm as the Grand Finale of their full week of literacy and community collaborations!\n\n\n\n PLAN TO READ with local authors\n\n\n PLAN TO EAT with local farmers and food programming like the YMCA Veggie Van and local good trucks\n\n\n PLAN TO PLAY at the newly re-imagined Houseman Playground\n\n\n PLAN TO EXPLORE your future!\n\n\nPLAN TO DREAM BIG …. \n\n\n\nThank you to the our amazing Community Partners: YMCA of Greater Grand Rapids \, Midtown Neighborhood Association \, Grand Rapids Park and Recreation\, Wege Foundation\, LMCU\, Sylvan\nSylvan Learning Center\, Mo’photography LLC\, Whole Hearted Marketing\, and many more!
URL:https://grlitfest.com/event/dream-big-literacy-play-2026/
LOCATION:Houseman Playground\, 162 Hausman Ave NE\, Grand Rapids\, MI\, 49503
CATEGORIES:Community Event
END:VEVENT
END:VCALENDAR