BEGIN:VCALENDAR
VERSION:2.0
PRODID:-//GR Lit Fest - ECPv6.15.20//NONSGML v1.0//EN
CALSCALE:GREGORIAN
METHOD:PUBLISH
X-WR-CALNAME:GR Lit Fest
X-ORIGINAL-URL:https://grlitfest.com
X-WR-CALDESC:Events for GR Lit Fest
REFRESH-INTERVAL;VALUE=DURATION:PT1H
X-Robots-Tag:noindex
X-PUBLISHED-TTL:PT1H
BEGIN:VTIMEZONE
TZID:America/Detroit
BEGIN:DAYLIGHT
TZOFFSETFROM:-0500
TZOFFSETTO:-0400
TZNAME:EDT
DTSTART:20240310T070000
END:DAYLIGHT
BEGIN:STANDARD
TZOFFSETFROM:-0400
TZOFFSETTO:-0500
TZNAME:EST
DTSTART:20241103T060000
END:STANDARD
BEGIN:DAYLIGHT
TZOFFSETFROM:-0500
TZOFFSETTO:-0400
TZNAME:EDT
DTSTART:20250309T070000
END:DAYLIGHT
BEGIN:STANDARD
TZOFFSETFROM:-0400
TZOFFSETTO:-0500
TZNAME:EST
DTSTART:20251102T060000
END:STANDARD
BEGIN:DAYLIGHT
TZOFFSETFROM:-0500
TZOFFSETTO:-0400
TZNAME:EDT
DTSTART:20260308T070000
END:DAYLIGHT
BEGIN:STANDARD
TZOFFSETFROM:-0400
TZOFFSETTO:-0500
TZNAME:EST
DTSTART:20261101T060000
END:STANDARD
BEGIN:DAYLIGHT
TZOFFSETFROM:-0500
TZOFFSETTO:-0400
TZNAME:EDT
DTSTART:20270314T070000
END:DAYLIGHT
BEGIN:STANDARD
TZOFFSETFROM:-0400
TZOFFSETTO:-0500
TZNAME:EST
DTSTART:20271107T060000
END:STANDARD
END:VTIMEZONE
BEGIN:VEVENT
DTSTART;TZID=America/Detroit:20260213T180000
DTEND;TZID=America/Detroit:20260213T200000
DTSTAMP:20260423T193406
CREATED:20260105T152718Z
LAST-MODIFIED:20260105T152718Z
UID:613-1771005600-1771012800@grlitfest.com
SUMMARY:Dark Romance Galentine’s Day
DESCRIPTION:Turning Red from all the Pink?\n\nGR LitFest\, in partnership with Pages & Grapes bookstore featuring Two Crowns\, presents DARK ROMANCE GALENTINE’S DAY & BOOK FAIR! \nGalentine’s Day doesn’t have to be pink and fluffy. Step out for a dark and decadent night with your favorite gals. \n\nSip local wine samples.\nCraft your own spell jars with Two Crowns.\nProcure tarot readings.\n\nBe sure to browse the dark romance book fair. Authors include: \n\nZoe Blake\nDanny Crooks\nTylor Paige\nD. Williams
URL:https://grlitfest.com/event/dark-romance-galentines-day/
LOCATION:Pages & Grapes\, 1760 44th St SW Suite 6\, Wyoming\, MI\, 49519\, United States
CATEGORIES:Pop-up
ATTACH;FMTTYPE=image/jpeg:https://grlitfest.com/wp-content/uploads/2026/01/GRLitFest-Events-DarkRomance-FB.jpg
ORGANIZER;CN="GR Lit Fest":MAILTO:grlitfest@gmail.com
END:VEVENT
BEGIN:VEVENT
DTSTART;TZID=America/Detroit:20251010T190000
DTEND;TZID=America/Detroit:20251010T210000
DTSTAMP:20260423T193406
CREATED:20250911T185224Z
LAST-MODIFIED:20250911T190957Z
UID:601-1760122800-1760130000@grlitfest.com
SUMMARY:Spooky Open Mic Night & Book Sale
DESCRIPTION:GOT A SPOOKY STORY TO SHARE? \nGR LitFest\, in partnership with The Twilight Traveler and Pux Taphouse\, presents SPOOKY OPEN MIC NIGHT & BOOK FAIR! \nWriters are invited to share horror-themed poetry\, stories\, or excerpts of their work. Stories can be truth or fiction\, but must be told within ten minutes. Arrive early to sign up for a time slot! \nGratuitous violence and gore\, animal harm\, non-consensual acts\, or sexual content involving minors are prohibited. \nBe sure to browse the horror/thriller book sale\, featuring 6 authors! \nThis event has no admission fee\, but there is a one drink minimum. Non-alcoholic drinks are available. \nJoin us for the night . . . IF YOU DARE.
URL:https://grlitfest.com/event/spooky-open-mic-night-book-sale/
LOCATION:Pux Cider Taphouse\, 311 Fuller Ave NE\, Grand Rapids\, MI\, 49503
CATEGORIES:Pop-up
ATTACH;FMTTYPE=image/jpeg:https://grlitfest.com/wp-content/uploads/2025/09/GRLitFest-EventsSpooky-FB.jpg
ORGANIZER;CN="GR Lit Fest":MAILTO:grlitfest@gmail.com
END:VEVENT
END:VCALENDAR