BEGIN:VCALENDAR
VERSION:2.0
PRODID:-//GR Lit Fest - ECPv6.15.20//NONSGML v1.0//EN
CALSCALE:GREGORIAN
METHOD:PUBLISH
X-WR-CALNAME:GR Lit Fest
X-ORIGINAL-URL:https://grlitfest.com
X-WR-CALDESC:Events for GR Lit Fest
REFRESH-INTERVAL;VALUE=DURATION:PT1H
X-Robots-Tag:noindex
X-PUBLISHED-TTL:PT1H
BEGIN:VTIMEZONE
TZID:America/Detroit
BEGIN:DAYLIGHT
TZOFFSETFROM:-0500
TZOFFSETTO:-0400
TZNAME:EDT
DTSTART:20250309T070000
END:DAYLIGHT
BEGIN:STANDARD
TZOFFSETFROM:-0400
TZOFFSETTO:-0500
TZNAME:EST
DTSTART:20251102T060000
END:STANDARD
BEGIN:DAYLIGHT
TZOFFSETFROM:-0500
TZOFFSETTO:-0400
TZNAME:EDT
DTSTART:20260308T070000
END:DAYLIGHT
BEGIN:STANDARD
TZOFFSETFROM:-0400
TZOFFSETTO:-0500
TZNAME:EST
DTSTART:20261101T060000
END:STANDARD
BEGIN:DAYLIGHT
TZOFFSETFROM:-0500
TZOFFSETTO:-0400
TZNAME:EDT
DTSTART:20270314T070000
END:DAYLIGHT
BEGIN:STANDARD
TZOFFSETFROM:-0400
TZOFFSETTO:-0500
TZNAME:EST
DTSTART:20271107T060000
END:STANDARD
END:VTIMEZONE
BEGIN:VEVENT
DTSTART;TZID=America/Detroit:20260622T100000
DTEND;TZID=America/Detroit:20260622T110000
DTSTAMP:20260423T171810
CREATED:20260329T200446Z
LAST-MODIFIED:20260329T202616Z
UID:659-1782122400-1782126000@grlitfest.com
SUMMARY:Kids’ Story Hour with Author Georgia Ann Moss
DESCRIPTION:Join author Georgia Ann Moss as she reads her children’s book Uncle Buddy for a kids’ story hour! \nAbout the Book\nUncle Buddy is the story of one of the most cherished memories of Georgia’s childhood. This book introduces the world to her family members and the joyous times they had at her Grandmother Mary’s house in Memphis\, TN. It’s a story of kindness and wisdom with fond memories of a loved family member. The story will hold you captive until the end puts a smile on your face. \nThe book is designed to capture the attention of Pre-K to third grade readers with 29 high frequency words and think and respond questions for comprehension. \nFamily-friendly Activities with the Author\nA word search and coloring activities are included. Join us for this special\, family-friendly event.
URL:https://grlitfest.com/event/kids-story-hour-kdl-062226/
LOCATION:KDL – East Grand Rapids Branch\, 746 Lakeside Dr SE\, East Grand Rapids\, MI\, 49506\, United States
CATEGORIES:Author Reading
ATTACH;FMTTYPE=image/jpeg:https://grlitfest.com/wp-content/uploads/2026/03/GRLitFest26-StoryHour0622-FB.jpg
ORGANIZER;CN="GR Lit Fest":MAILTO:grlitfest@gmail.com
END:VEVENT
BEGIN:VEVENT
DTSTART;TZID=America/Detroit:20260623T103000
DTEND;TZID=America/Detroit:20260623T113000
DTSTAMP:20260423T171810
CREATED:20260329T204603Z
LAST-MODIFIED:20260422T220244Z
UID:661-1782210600-1782214200@grlitfest.com
SUMMARY:Children’s Story Hour with Author Candi Purdiman
DESCRIPTION:Author Candi Purdiman will reading her book I Survived Being Afraid of the Dark for a children’s story hour! \nAbout the Book\nMeet Riley\, a brave little boy with a big imagination. When the lights go out\, his bedroom fills with spooky shadows and mysterious shapes! Riley is convinced there are things lurking in the dark\, even though no one else can see them. \nBut one night\, with his mom’s help\, Riley learns that the shadows and shapes are just his imagination playing tricks on him. Together\, they explore his fears and discover that the dark isn’t so scary after all. \nVenue TBD
URL:https://grlitfest.com/event/kids-story-hour-062326/
LOCATION:MI
CATEGORIES:Author Reading
ATTACH;FMTTYPE=image/jpeg:https://grlitfest.com/wp-content/uploads/2026/03/GRLitFest26-StoryHour0623-FB.jpg
ORGANIZER;CN="GR Lit Fest":MAILTO:grlitfest@gmail.com
END:VEVENT
BEGIN:VEVENT
DTSTART;TZID=America/Detroit:20260624T103000
DTEND;TZID=America/Detroit:20260624T113000
DTSTAMP:20260423T171810
CREATED:20260329T203255Z
LAST-MODIFIED:20260415T214101Z
UID:663-1782297000-1782300600@grlitfest.com
SUMMARY:Children’s Story Hour with Author Ms. Z
DESCRIPTION:Ms. Z will reading her children’s book When the School Goes Dark for a children’s story hour! \nAbout the Book\nWhat happens in your classroom when the lights go out and the last custodian locks up for the night? \nIn When the School Goes Dark\, Ms. Z invites readers into a whimsical\, mysterious world where pencils and erasers hold late-night gatherings\, Desk Trolls secretly scribble in books\, and mischievous Bathroom Bandits leave their “Cave Paintings” on the walls. \nThrough vivid imagination and magical storytelling\, Ms. Z reveals the enchanting lives of classroom objects and their nightly escapades. Perfect for young readers and anyone who’s ever wondered about the unseen world of their school\, this charming tale will make you see classrooms in a whole new light. \nStep into the magic\, but be warned- things are never quite as ordinary as they seem! \nFamily-friendly Activities with the Author\nA scavenger hunt of the library and designing your own creature activities are included. Join us for this special\, family-friendly event.
URL:https://grlitfest.com/event/kids-story-hour-062426/
LOCATION:GRPL – Seymour Branch\, 2350 Eastern Ave SE\, Grand Rapids\, MI\, 49507
CATEGORIES:Author Reading
ATTACH;FMTTYPE=image/jpeg:https://grlitfest.com/wp-content/uploads/2026/03/GRLitFest26-StoryHour0624-FB.jpg
ORGANIZER;CN="GR Lit Fest":MAILTO:grlitfest@gmail.com
END:VEVENT
BEGIN:VEVENT
DTSTART;TZID=America/Detroit:20260625T103000
DTEND;TZID=America/Detroit:20260625T113000
DTSTAMP:20260423T171810
CREATED:20260329T204302Z
LAST-MODIFIED:20260415T214144Z
UID:665-1782383400-1782387000@grlitfest.com
SUMMARY:Children’s Story Hour with Author Becca Bielicki
DESCRIPTION:Author Becca Bielicki will reading her book Banana Goes to Space for a children’s story hour! \nAbout the Book\nBanana Goes to Space is a fun and uplifting story about a determined banana who dreams of going to space. Despite being laughed at and doubted by the other fruits when his first rocket fails\, Banana refuses to give up. He works hard\, believes in himself\, and tries again. With courage and persistence\, Banana finally blasts off\, explores the planets\, and returns home a hero. \nThis heartwarming tale celebrates believing in yourself\, chasing your dreams\, and never quitting — showing that with determination\, even the biggest dreams can come true. \nFamily-friendly Activities with the Author\nJoin the author for fun songs and a craft at this family-friendly event!
URL:https://grlitfest.com/event/kids-story-hour-062526/
LOCATION:GRPL – Yankee Clipper Branch\, 2025 Leonard St NE\, Grand Rapids\, MI\, 49505
CATEGORIES:Author Reading
ATTACH;FMTTYPE=image/jpeg:https://grlitfest.com/wp-content/uploads/2026/03/GRLitFest26-StoryHour0625-FB.jpg
ORGANIZER;CN="GR Lit Fest":MAILTO:grlitfest@gmail.com
END:VEVENT
BEGIN:VEVENT
DTSTART;TZID=America/Detroit:20260626T103000
DTEND;TZID=America/Detroit:20260626T113000
DTSTAMP:20260423T171810
CREATED:20260329T204913Z
LAST-MODIFIED:20260415T214235Z
UID:667-1782469800-1782473400@grlitfest.com
SUMMARY:Children’s Story Hour with Author Cassie Veselovsky
DESCRIPTION:Cassie Veselovsky will reading her children’s book This is the Lighthouse for a kids’ story hour! Join us for this special\, family-friendly event. \nAbout the Book\nSing\, learn\, and explore lighthouses with This is the Lighthouse! \nWritten to the familiar tune of Here we go round the Mulberry Bush\, this interactive picture book invites young readers to discover how lighthouses guide boats safely through the night. \nChildren will meet: \n\nsoaring gulls\ncrashing waves\nhardworking keepers\nshining lights\n\nall while singing along. \nFeaturing real lighthouse photography and fascinating facts\, This Is the Lighthouse blends music\, nonfiction\, and early literacy fun into a joyful read-aloud experience. \nFamily-friendly Activities with the Author\nThere will be an interactive activity to accompany the reading of the book.
URL:https://grlitfest.com/event/kids-story-hour-062626/
LOCATION:GRPL – Ottawa Hills Branch\, 1150 Giddings Ave SE\, Grand Rapids\, MI\, 49506
CATEGORIES:Author Reading
ATTACH;FMTTYPE=image/jpeg:https://grlitfest.com/wp-content/uploads/2026/03/GRLitFest26-StoryHour0626-FB.jpg
ORGANIZER;CN="GR Lit Fest":MAILTO:grlitfest@gmail.com
END:VEVENT
END:VCALENDAR