BEGIN:VCALENDAR
VERSION:2.0
PRODID:-//GR Lit Fest - ECPv6.15.20//NONSGML v1.0//EN
CALSCALE:GREGORIAN
METHOD:PUBLISH
X-WR-CALNAME:GR Lit Fest
X-ORIGINAL-URL:https://grlitfest.com
X-WR-CALDESC:Events for GR Lit Fest
REFRESH-INTERVAL;VALUE=DURATION:PT1H
X-Robots-Tag:noindex
X-PUBLISHED-TTL:PT1H
BEGIN:VTIMEZONE
TZID:America/Detroit
BEGIN:DAYLIGHT
TZOFFSETFROM:-0500
TZOFFSETTO:-0400
TZNAME:EDT
DTSTART:20240310T070000
END:DAYLIGHT
BEGIN:STANDARD
TZOFFSETFROM:-0400
TZOFFSETTO:-0500
TZNAME:EST
DTSTART:20241103T060000
END:STANDARD
BEGIN:DAYLIGHT
TZOFFSETFROM:-0500
TZOFFSETTO:-0400
TZNAME:EDT
DTSTART:20250309T070000
END:DAYLIGHT
BEGIN:STANDARD
TZOFFSETFROM:-0400
TZOFFSETTO:-0500
TZNAME:EST
DTSTART:20251102T060000
END:STANDARD
BEGIN:DAYLIGHT
TZOFFSETFROM:-0500
TZOFFSETTO:-0400
TZNAME:EDT
DTSTART:20260308T070000
END:DAYLIGHT
BEGIN:STANDARD
TZOFFSETFROM:-0400
TZOFFSETTO:-0500
TZNAME:EST
DTSTART:20261101T060000
END:STANDARD
END:VTIMEZONE
BEGIN:VEVENT
DTSTART;TZID=America/Detroit:20250621T090000
DTEND;TZID=America/Detroit:20250621T100000
DTSTAMP:20260423T184142
CREATED:20250316T232259Z
LAST-MODIFIED:20250605T150245Z
UID:219-1750496400-1750500000@grlitfest.com
SUMMARY:Poetry in the Park at Burton Woods
DESCRIPTION:We’ll to walk the trails of Burton Woods and hear beautiful poetry by some of our local poets. \nPoets Include\n\nLynne Schmidt\nVincent Moyet\nLisa McAllister\n\nMeeting Spot\nWe’ll meet by the Jefferson entrance where there is more street parking. Right across from Garfield Park. These trails are not paved and we’ll walk the path a few times to fully enjoy the woods. Event will last 45 minutes. \nThis event will happen rain or shine so be sure to dress accordingly. \nRSVP is not required\, but appreciated. Click Here \nGR Poetry . . . is LIT!\nThe Grand River Poetry Collective has organized more poetry events to create a GR Poetry . . . is LIT! day-long poetry festival on June 20th! A full schedule can be found here: GR Poetry . . . is LIT Schedule
URL:https://grlitfest.com/event/poetry-in-the-park-at-burton-woods/
LOCATION:Burton Woods\, 2183 Jefferson Ave SE\, Grand Rapids\, MI\, 49507
CATEGORIES:Author Reading
ATTACH;FMTTYPE=image/jpeg:https://grlitfest.com/wp-content/uploads/2025/03/GRLitFest-poetryInPark2-FB.jpg
ORGANIZER;CN="GR Lit Fest":MAILTO:grlitfest@gmail.com
END:VEVENT
BEGIN:VEVENT
DTSTART;TZID=America/Detroit:20250620T180000
DTEND;TZID=America/Detroit:20250620T200000
DTSTAMP:20260423T184142
CREATED:20250410T191006Z
LAST-MODIFIED:20250605T150017Z
UID:360-1750442400-1750449600@grlitfest.com
SUMMARY:Poetry Reading with the Grand River Poetry Collective
DESCRIPTION:The Grand River Poetry Collective will gather for a poetry reading and a Q&A at the Wealthy Theatre Annex\, where several rooms will be “poetry activated.” Join your host Christine Stephens-Krieger\, current Grand Rapids Poet Laureate\, and get to know the new poetry collective in town. \nThere’s no fee for entry or joining the collective. We’re looking forward to seeing you at the Wealthy Theatre Annex! \nThis event is free to attend\, but please RSVP: Click Here \nThe Grand River Poetry Collective has organized more poetry events to create a GR Poetry . . . is LIT! day-long poetry festival! A full schedule can be found here: GR Poetry . . . is LIT Schedule
URL:https://grlitfest.com/event/poetry-reading-grand-river-poetry-collective/
LOCATION:Wealthy Theatre Annex\, 1110 Wealthy St SE\, Grand Rapids\, MI\, 49506
CATEGORIES:Author Reading,Community Event
ATTACH;FMTTYPE=image/jpeg:https://grlitfest.com/wp-content/uploads/2025/04/GRLitFest-poetryInTheatre-FB.jpg
ORGANIZER;CN="GR Lit Fest":MAILTO:grlitfest@gmail.com
END:VEVENT
BEGIN:VEVENT
DTSTART;TZID=America/Detroit:20250619T120000
DTEND;TZID=America/Detroit:20250619T140000
DTSTAMP:20260423T184142
CREATED:20250618T193236Z
LAST-MODIFIED:20250618T193846Z
UID:591-1750334400-1750341600@grlitfest.com
SUMMARY:Spiritual and Inspirational Author Talk
DESCRIPTION:GR Lit Fest is excited to partner with Grand Rapids Civic Theater for a Spiritual and Inspirational Author Talk featuring Michael G. Farrell. \nThe event will be held in the Grand Rapids Civic Theater Community Room. Please look for signs upon entering the building. \nRSVP is not required but appreciated: Click Here
URL:https://grlitfest.com/event/spiritual-and-inspirational-author-talk/
LOCATION:Grand Rapids Civic Theater\, 30 Division Ave N\, Grand Rapids\, 49503
CATEGORIES:Author Reading
ATTACH;FMTTYPE=image/jpeg:https://grlitfest.com/wp-content/uploads/2025/06/GRLitFest-spiritual-FB.jpg
ORGANIZER;CN="GR Lit Fest":MAILTO:grlitfest@gmail.com
END:VEVENT
BEGIN:VEVENT
DTSTART;TZID=America/Detroit:20250618T110000
DTEND;TZID=America/Detroit:20250618T120000
DTSTAMP:20260423T184142
CREATED:20250519T205630Z
LAST-MODIFIED:20250618T135717Z
UID:496-1750244400-1750248000@grlitfest.com
SUMMARY:Kids’ Story Hour with Author Sarah McCormick
DESCRIPTION:NEW VENUE \nDue to predicted thunderstorms\, this event will now be held at Tia’s Play Cafe. \nAuthor Sarah McCormick will reading her children’s book Ollie the Owl for a kids’ story hour! Join us for this special\, family-friendly event. \nRSVP is not required but appreciated: Click Here
URL:https://grlitfest.com/event/kids-story-hour-with-author-sarah-mccormick/
LOCATION:Tia’s Play Cafe\, 1533 Wealthy St SE\, Grand Rapids\, 49506
CATEGORIES:Author Reading
ATTACH;FMTTYPE=image/jpeg:https://grlitfest.com/wp-content/uploads/2025/05/GRLitFest-Events-NewLocate-FB.jpg
ORGANIZER;CN="GR Lit Fest":MAILTO:grlitfest@gmail.com
END:VEVENT
BEGIN:VEVENT
DTSTART;TZID=America/Detroit:20250617T190000
DTEND;TZID=America/Detroit:20250617T210000
DTSTAMP:20260423T184142
CREATED:20250316T232139Z
LAST-MODIFIED:20250422T183032Z
UID:217-1750186800-1750194000@grlitfest.com
SUMMARY:Author Talk: How to Survive in a Chaotic Climate
DESCRIPTION:Join authors LaUra Schmidt and Aimee Lewis Reau as they discuss their book\, How to Live in a Chaotic Climate. \nHow to Live in a Chaotic Climate is a salve for these times\, walking us through how to connect and stay open-hearted in deeply fragmented\, disconnected times. \nThe presentation will include a QandA at the end\, and books will be available for purchase. This event is free\, and open to the public. \nPLEASE NOTE: This event requires a one drink minimum purchase. \nFree event\, but please RSVP. Click Here  \nAbout the Authors:\nLaUra Schmidt is the founding director of Good Grief Network and the brain behind the “10-Steps to Resilience & Empowerment in a Chaotic Climate” program and the FLOW Facilitation Training. She is a truth seeker\, community builder\, cultural critic\, trainer\, program designer\, and facilitator. LaUra has long been captivated by the human condition. She is a lifelong student\, curator\, and practitioner of personal and collective resilience strategies. Inspiration finds her in natural landscapes and honest\, open-hearted dialogue. LaUra graduated with a BS in Environmental Studies\, Biology\, and Religious Studies. Her MS is in Environmental Humanities. She has earned certificates in “Integrative Somatic Trauma Therapy” and “Climate Psychology.” \nAimee Lewis Reau is the cofounder of Good Grief Network and the heart behind the “10-Steps to Resilience & Empowerment in a Chaotic Climate” program and the FLOW Facilitation Training. She was born and raised in Adrian\, Michigan. Aimee is an edgy & reverent contemplative\, healer and yoga/intuitive movement instructor. Aimee received her Bachelor’s degree in English\, Poetry\, and Religion from Central Michigan University before obtaining her MFA in Creative Nonfiction from Georgia College & State University.
URL:https://grlitfest.com/event/evening-with-a-climate-travel-writer/
LOCATION:Speciation Cellars\, 928 Wealthy St SE\, Grand Rapids\, MI\, 49506
CATEGORIES:Author Reading
ATTACH;FMTTYPE=image/jpeg:https://grlitfest.com/wp-content/uploads/2025/03/GRLitFest-enviro-FB.jpg
ORGANIZER;CN="GR Lit Fest":MAILTO:grlitfest@gmail.com
END:VEVENT
BEGIN:VEVENT
DTSTART;TZID=America/Detroit:20250617T090000
DTEND;TZID=America/Detroit:20250617T100000
DTSTAMP:20260423T184142
CREATED:20250316T232346Z
LAST-MODIFIED:20250605T150621Z
UID:221-1750150800-1750154400@grlitfest.com
SUMMARY:Poetry in the Park at Riverside
DESCRIPTION:We’ll meet up at Riverside Park to walk the trails and hear beautiful poetry by some of our local poets. \nPoets Include\n\nKathleen McGookey\nHeather Picardat\nCaitlin Cowen\n\nMeeting Spot\nEnter the park at the Riverside Park Boat Launch #2 / Island Shelter entrance. At the last parking lot\, we’ll meet by the restrooms and colorful play structure. Our walk will be roughly 45 minutes. These trails are paved. \nThis event will happen rain or shine so be sure to dress accordingly. \nRSVP is not necessary\, but appreciated. Click Here \nGR Poetry . . . is LIT!\nThe Grand River Poetry Collective has organized more poetry events to create a GR Poetry . . . is LIT! day-long poetry festival on June 20th! A full schedule can be found here: GR Poetry . . . is LIT Schedule
URL:https://grlitfest.com/event/poetry-in-riverside-park/
LOCATION:Riverside Park\, 2401 Monroe Ave NE\, Grand Rapids\, MI\, 49505
CATEGORIES:Author Reading
ATTACH;FMTTYPE=image/jpeg:https://grlitfest.com/wp-content/uploads/2025/03/GRLitFest-poetryInPark-FB.jpg
ORGANIZER;CN="GR Lit Fest":MAILTO:grlitfest@gmail.com
END:VEVENT
BEGIN:VEVENT
DTSTART;TZID=America/Detroit:20250616T180000
DTEND;TZID=America/Detroit:20250616T200000
DTSTAMP:20260423T184142
CREATED:20250416T183445Z
LAST-MODIFIED:20250507T194331Z
UID:375-1750096800-1750104000@grlitfest.com
SUMMARY:Author Talk: This Book is Banned
DESCRIPTION:Free event\, but RSVP needed! RSVP HERE \n“Books are powerful. They can open your mind\, give you language and understanding and\, most importantly\, give you the tools to change the world. This makes them a danger to those who are invested in keeping folks in the dark.” ~ Nicole Lintemuth\, author of “This Book is Dangerous.” \nWe are excited to partner with Books & Mortar to host an author talk with author Nicole Lintemuth. Join us to learn about book bans and how we\, as readers\, can take action against them!
URL:https://grlitfest.com/event/author-talk-this-book-is-banned/
LOCATION:Books & Mortar\, 966 Cherry St SE\, Grand Rapids\, MI\, 49506\, United States
CATEGORIES:Author Reading
ATTACH;FMTTYPE=image/jpeg:https://grlitfest.com/wp-content/uploads/2025/04/GRLitFest-bookBanning-FB.jpg
ORGANIZER;CN="GR Lit Fest":MAILTO:grlitfest@gmail.com
END:VEVENT
END:VCALENDAR